BEGIN:VCALENDAR
VERSION:2.0
PRODID:-//Self-Evident Ministries - ECPv5.12.0//NONSGML v1.0//EN
CALSCALE:GREGORIAN
METHOD:PUBLISH
X-WR-CALNAME:Self-Evident Ministries
X-ORIGINAL-URL:https://oldwp.theselfevidenttruth.com
X-WR-CALDESC:Events for Self-Evident Ministries
REFRESH-INTERVAL;VALUE=DURATION:PT1H
X-Robots-Tag:noindex
X-PUBLISHED-TTL:PT1H
BEGIN:VTIMEZONE
TZID:UTC
BEGIN:STANDARD
TZOFFSETFROM:+0000
TZOFFSETTO:+0000
TZNAME:UTC
DTSTART:20190101T000000
END:STANDARD
END:VTIMEZONE
BEGIN:VEVENT
DTSTART;TZID=UTC:20190612T180000
DTEND;TZID=UTC:20190612T200000
DTSTAMP:20260425T234153
CREATED:20190605T204627Z
LAST-MODIFIED:20190605T204627Z
UID:2035-1560362400-1560369600@oldwp.theselfevidenttruth.com
SUMMARY:MAKE AMERICA CONSTITUTIONAL AGAIN TOUR - Springfield\, Mass.
DESCRIPTION:Massey is honored to be speaking again at Heritage Baptist. His message will be\, “What does Pursuit of Happiness truly mean?” Where doesÂ happiness come from? Isn’t doing what you want happiness? Come hear how this term has been completely misconstrued from it’s original Biblical intent.
URL:https://oldwp.theselfevidenttruth.com/event/make-america-constitutional-again-tour-springfield-mass/
LOCATION:Heritage Baptist Church\, 640 Plumtree Rd.\, Springfield\, MA\, MA\, United States
END:VEVENT
BEGIN:VEVENT
DTSTART;TZID=UTC:20190615T100000
DTEND;TZID=UTC:20190615T180000
DTSTAMP:20260425T234153
CREATED:20190605T205051Z
LAST-MODIFIED:20190605T210422Z
UID:2039-1560592800-1560621600@oldwp.theselfevidenttruth.com
SUMMARY:MAKE AMERICA CONSTITUTIONAL AGAIN TOUR - Auburn\, Mass.
DESCRIPTION:Massey is excited to participate in this public rally designed to educate people about our 2ndÂ Amendment right\, to encourage people to protect that right\, and talk about where our “Rights” truly come from. Massey will be praying at the opening of this event as well as speaking numerous times throughout the duration of this rally.
URL:https://oldwp.theselfevidenttruth.com/event/make-america-great-again-tour-auburn-mass/
LOCATION:2nd Ammendment Rally\, 531 Rochdale St\, Auburn\, MA\, United States
END:VEVENT
BEGIN:VEVENT
DTSTART;TZID=UTC:20190615T190000
DTEND;TZID=UTC:20190615T210000
DTSTAMP:20260425T234153
CREATED:20190605T205421Z
LAST-MODIFIED:20190605T205421Z
UID:2043-1560625200-1560632400@oldwp.theselfevidenttruth.com
SUMMARY:MAKE AMERICA CONSTITUTIONAL AGAIN TOUR - Onset\, Mass.
DESCRIPTION:We are very excited to be speaking again at the Bridge Church in Onset\, as well as their sisterÂ church on Carver onÂ Sunday Morning. Massey will be speaking about\, “What is theÂ Anchor of American Liberty?” Why is America and theÂ Constitution so Unique? Was God and His principles really involved in the founding of America\, and does it really matter?\nÂ \nThis event is open to theÂ public!
URL:https://oldwp.theselfevidenttruth.com/event/make-america-constitutional-again-tour-onset-mass/
LOCATION:The Bridge Church\, 15 Highland Ave.\, Onset\, MA\, 02558\, United States
END:VEVENT
BEGIN:VEVENT
DTSTART;TZID=UTC:20190616T090000
DTEND;TZID=UTC:20190616T100000
DTSTAMP:20260425T234153
CREATED:20190605T210106Z
LAST-MODIFIED:20190605T210106Z
UID:2050-1560675600-1560679200@oldwp.theselfevidenttruth.com
SUMMARY:MAKE AMERICA CONSTITUTIONAL AGAIN TOUR - Carver\, Mass.
DESCRIPTION:Massey will be speaking about\, “What is theÂ Anchor of American Liberty?” Why is America and theÂ Constitution so Unique? Was God and His principles really involved in the founding of America\, and does it really matter?\n\nThis event is open to the public!
URL:https://oldwp.theselfevidenttruth.com/event/make-america-constitutional-again-tour-carver-mass/
LOCATION:The Bridge Church (Carver Location)\, 307 Tremont St\, Carver\, MA\, United States
END:VEVENT
BEGIN:VEVENT
DTSTART;TZID=UTC:20190616T110000
DTEND;TZID=UTC:20190616T120000
DTSTAMP:20260425T234153
CREATED:20190605T210246Z
LAST-MODIFIED:20190605T210246Z
UID:2054-1560682800-1560686400@oldwp.theselfevidenttruth.com
SUMMARY:MAKE AMERICA CONSTITUTIONAL AGAIN TOUR - Onset\, Mass.
DESCRIPTION:Massey will be speaking about\, “What does Pursuit of Happiness truly mean?” Where doesÂ happiness come from? Isn’t doing what you want happiness? Come hear how this term has been completely misconstrued from it’s original Biblical intent.Â \nÂ \nThis even is open to the public!
URL:https://oldwp.theselfevidenttruth.com/event/make-america-constitutional-again-tour-onset-mass-2/
LOCATION:FL
END:VEVENT
END:VCALENDAR