BEGIN:VCALENDAR
VERSION:2.0
PRODID:-//Self-Evident Ministries - ECPv5.12.0//NONSGML v1.0//EN
CALSCALE:GREGORIAN
METHOD:PUBLISH
X-WR-CALNAME:Self-Evident Ministries
X-ORIGINAL-URL:https://oldwp.theselfevidenttruth.com
X-WR-CALDESC:Events for Self-Evident Ministries
REFRESH-INTERVAL;VALUE=DURATION:PT1H
X-Robots-Tag:noindex
X-PUBLISHED-TTL:PT1H
BEGIN:VTIMEZONE
TZID:UTC
BEGIN:STANDARD
TZOFFSETFROM:+0000
TZOFFSETTO:+0000
TZNAME:UTC
DTSTART:20190101T000000
END:STANDARD
END:VTIMEZONE
BEGIN:VEVENT
DTSTART;TZID=UTC:20191209T183000
DTEND;TZID=UTC:20191209T183000
DTSTAMP:20260423T151443
CREATED:20191207T164720Z
LAST-MODIFIED:20191207T164720Z
UID:2218-1575916200-1575916200@oldwp.theselfevidenttruth.com
SUMMARY:City Council Meeting - Port St Lucie\, FL
DESCRIPTION:Massey plans on speaking as a public voice on Monday\, Dec 9th\, at the Port St Lucie City Council meeting; however\, weâ€™d love for you to come and join us in this fight! Planned Parenthood has recently been set to move into Port St Lucie but the people of the city donâ€™t want it! The council has tried to gloss over the issue and express an inability to turn the tide even though it has been done before. Over 3\,000 petitions were signed and hundreds of people have attended the last two meetings… thatâ€™s why we need you to use join us in this fight for righteousness and the unborn!Â Not only must we be consistently in prayer\, but there comes a time when we must tell the truth in love and hold our leaders accountable for wrongdoing in our city. Come out and show your support! \nThe meeting begins at 6:30pm\, although the doors do open at 6:00 pm. If you would like to speak\, you may sign up before the meeting starts. You will have 3 minutes.
URL:https://oldwp.theselfevidenttruth.com/event/city-council-meeting-port-st-lucie-fl/
LOCATION:City Hall\, Building A\, 121 SW Port St Lucie Blvd\, Port St Lucie\, FL\, 34984\, United States
ATTACH;FMTTYPE=image/jpeg:https://oldwp.theselfevidenttruth.com/wp-content/uploads/2019/12/C009D180-A408-419F-8483-63A93140B17C.jpeg
END:VEVENT
END:VCALENDAR