BEGIN:VCALENDAR
VERSION:2.0
PRODID:-//Self-Evident Ministries - ECPv5.12.0//NONSGML v1.0//EN
CALSCALE:GREGORIAN
METHOD:PUBLISH
X-WR-CALNAME:Self-Evident Ministries
X-ORIGINAL-URL:https://oldwp.theselfevidenttruth.com
X-WR-CALDESC:Events for Self-Evident Ministries
REFRESH-INTERVAL;VALUE=DURATION:PT1H
X-Robots-Tag:noindex
X-PUBLISHED-TTL:PT1H
BEGIN:VTIMEZONE
TZID:UTC
BEGIN:STANDARD
TZOFFSETFROM:+0000
TZOFFSETTO:+0000
TZNAME:UTC
DTSTART:20190101T000000
END:STANDARD
END:VTIMEZONE
BEGIN:VEVENT
DTSTART;TZID=UTC:20191205T190000
DTEND;TZID=UTC:20191205T190000
DTSTAMP:20260423T151448
CREATED:20191114T202006Z
LAST-MODIFIED:20191114T202544Z
UID:2169-1575572400-1575572400@oldwp.theselfevidenttruth.com
SUMMARY:St Lucie County Tea Party - St James Orthodox Church - Port St Lucie\, FL
DESCRIPTION:Massey will be speaking along with Brenda MacMenamin from American Heritage Today. They will be speakingÂ aboutÂ Separation ofÂ Church and State\, and how that modern day belief hasÂ dismantled the foundationÂ of what made America great. They will be bring a powerful knowledge about the Christian heritage of America\, the faith of the founding fathers and how that faithÂ influenced what was established in America\, and most importantly\, why it is absolutely necessary for Americans to uphold thatÂ foundation.Â 
URL:https://oldwp.theselfevidenttruth.com/event/st-lucie-county-tea-party-st-james-orthodox-church/
LOCATION:St James Orthodox Church\, 2201 SE Airoso Blvd\, Port St Lucie\, FL\, United States
END:VEVENT
END:VCALENDAR