BEGIN:VCALENDAR
VERSION:2.0
PRODID:-//Self-Evident Ministries - ECPv5.12.0//NONSGML v1.0//EN
CALSCALE:GREGORIAN
METHOD:PUBLISH
X-WR-CALNAME:Self-Evident Ministries
X-ORIGINAL-URL:https://oldwp.theselfevidenttruth.com
X-WR-CALDESC:Events for Self-Evident Ministries
REFRESH-INTERVAL;VALUE=DURATION:PT1H
X-Robots-Tag:noindex
X-PUBLISHED-TTL:PT1H
BEGIN:VTIMEZONE
TZID:UTC
BEGIN:STANDARD
TZOFFSETFROM:+0000
TZOFFSETTO:+0000
TZNAME:UTC
DTSTART:20190101T000000
END:STANDARD
END:VTIMEZONE
BEGIN:VEVENT
DTSTART;TZID=UTC:20191012T090000
DTEND;TZID=UTC:20191012T153000
DTSTAMP:20260425T185615
CREATED:20190903T142302Z
LAST-MODIFIED:20190903T142506Z
UID:2101-1570870800-1570894200@oldwp.theselfevidenttruth.com
SUMMARY:Government vs God Conference - Stuart\, FL
DESCRIPTION:This event is free of charge and open to the public!!! \nFor more information: Click Here \nPastors/Leaders: Have you ever wondered what youâ€™re allowed to say behind the pulpit? Is free speech really free speech? \nAmerican People: What God-given rights can government take away? NONE. Find out what those rights are. \nChristian: Are you frustrated not knowing how to discuss religion and politics? Does God and Government have to be separated? Now is the time to get your questions answered. \nYou donâ€™t want to miss this special conference as we educate & empower the body of Christ to bring answers to the culture war going on in front of us. Hosted by Self Evident Ministry and Revive Church. Free entry â€“ No childcare available. \nSession 1: 9:00am – 10:00am\nSession 2: 10:10 – 11:00am\nSession 3: 11:10am – 12:00pm\nQ&A Time/Break: 12:15pm – 1:45pm\nSession 4: 1:45pm – 2:45pm\nSession 5/Q&A with Panel: 2:45pm – 3:30pm \n 
URL:https://oldwp.theselfevidenttruth.com/event/government-vs-god-conference-stuart-fl/
LOCATION:Revive Church\, 8851 SW Old Kansas Ave.\, Stuart\, FL\, 34997\, United States
ATTACH;FMTTYPE=image/jpeg:https://oldwp.theselfevidenttruth.com/wp-content/uploads/2019/09/Oct-12th.jpg
END:VEVENT
END:VCALENDAR