BEGIN:VCALENDAR
VERSION:2.0
PRODID:-//Self-Evident Ministries - ECPv5.12.0//NONSGML v1.0//EN
CALSCALE:GREGORIAN
METHOD:PUBLISH
X-WR-CALNAME:Self-Evident Ministries
X-ORIGINAL-URL:https://oldwp.theselfevidenttruth.com
X-WR-CALDESC:Events for Self-Evident Ministries
REFRESH-INTERVAL;VALUE=DURATION:PT1H
X-Robots-Tag:noindex
X-PUBLISHED-TTL:PT1H
BEGIN:VTIMEZONE
TZID:UTC
BEGIN:STANDARD
TZOFFSETFROM:+0000
TZOFFSETTO:+0000
TZNAME:UTC
DTSTART:20190101T000000
END:STANDARD
END:VTIMEZONE
BEGIN:VEVENT
DTSTART;VALUE=DATE:20190801
DTEND;VALUE=DATE:20190804
DTSTAMP:20260425T220824
CREATED:20190718T165445Z
LAST-MODIFIED:20190718T165510Z
UID:2068-1564617600-1564876799@oldwp.theselfevidenttruth.com
SUMMARY:Great Homeschool Convention - Rochester\, New York
DESCRIPTION:Massey will be speaking a number of times throughout the duration of this convention. His topics will cover a wide range of social issues and how we as Christian\, families\, and students should be respond. What is our role in society and why is it so important that we use our voice to speak up on these issues!\nÂ \nTo register in order to attend this convention\, please click on this link:Â https://greathomeschoolconventions.com/locations/new-york/
URL:https://oldwp.theselfevidenttruth.com/event/great-homeschool-convention/
LOCATION:Joseph A. Floreano Riverside Convention Center\, 123 E Main St.\, Rochester\, NY\, 14604\, United States
END:VEVENT
END:VCALENDAR